BEGIN:VCALENDAR
VERSION:2.0
PRODID:-//The Agency Collective - ECPv6.0.10//NONSGML v1.0//EN
CALSCALE:GREGORIAN
METHOD:PUBLISH
X-ORIGINAL-URL:https://www.theagencycollective.co.uk
X-WR-CALDESC:Events for The Agency Collective
REFRESH-INTERVAL;VALUE=DURATION:PT1H
X-Robots-Tag:noindex
X-PUBLISHED-TTL:PT1H
BEGIN:VTIMEZONE
TZID:UTC
BEGIN:STANDARD
TZOFFSETFROM:+0000
TZOFFSETTO:+0000
TZNAME:UTC
DTSTART:20240101T000000
END:STANDARD
END:VTIMEZONE
BEGIN:VEVENT
DTSTART;TZID=UTC:20240919T180000
DTEND;TZID=UTC:20240919T223000
DTSTAMP:20260421T120036
CREATED:20240806T092613Z
LAST-MODIFIED:20240918T155550Z
UID:10000056-1726768800-1726785000@www.theagencycollective.co.uk
SUMMARY:The AC Summer Party [MIXED EVENT]
DESCRIPTION:It’s that time of year again when we clock off early to join our colleagues for a pint on the sunny side of the street and fully enjoy the longer\, warmer summer evenings. ☀️ \nJoin us for the annual Agency Collective Summer Party 2024 at The Racketeers Pub in Kings Cross. There will be food\, drink and an opportunity to relax and re-connect with fellow founders and AC members. \nWe’ve also got some very exciting news that we’ll be announcing. \nWhat to Expect:\nCasual networking facilitated by The AC Team\, a short talk\, and free food and drinks on us! \nEvent Details:\nDate: Thursday\, 19th of September\nTime: 6pm – 10:30pm\nLocation: The Racketeers\, Kings Cross Road\, London WC1X 9LR\nCatering: Food & and drink provided (Gluten-free and vegan options as standard) \nPlease Note:\nThis event is for senior agency management only. Tickets are on a first-come-first-serve basis.\nIf you have any questions\, don’t hesitate to get in touch with Amy at amy@theagencycollective.co.uk \nLOCATION\nThe Racketeer\, WC1X 9LR \nThis is a members’ event. If you would be interested in joining\, please email jacob@theagencycollective.co.uk or book a call here!
URL:https://www.theagencycollective.co.uk/event/the-ac-summer-party/
LOCATION:The Racketeer\, The Racketeer\, 105 King's Cross Rd\, London\, WC1X 9LR\, United Kingdom
ATTACH;FMTTYPE=image/png:https://www.theagencycollective.co.uk/wp-content/uploads/2024/08/Social.png
END:VEVENT
END:VCALENDAR